BEGIN:VCALENDAR
VERSION:2.0
PRODID:-//Eesti Tegevusterapeutide Liit - ECPv6.15.20//NONSGML v1.0//EN
CALSCALE:GREGORIAN
METHOD:PUBLISH
X-WR-CALNAME:Eesti Tegevusterapeutide Liit
X-ORIGINAL-URL:https://tegevusterapeudid.ee
X-WR-CALDESC:Events for Eesti Tegevusterapeutide Liit
REFRESH-INTERVAL;VALUE=DURATION:PT1H
X-Robots-Tag:noindex
X-PUBLISHED-TTL:PT1H
BEGIN:VTIMEZONE
TZID:Europe/Tallinn
BEGIN:DAYLIGHT
TZOFFSETFROM:+0200
TZOFFSETTO:+0300
TZNAME:EEST
DTSTART:20250330T010000
END:DAYLIGHT
BEGIN:STANDARD
TZOFFSETFROM:+0300
TZOFFSETTO:+0200
TZNAME:EET
DTSTART:20251026T010000
END:STANDARD
BEGIN:DAYLIGHT
TZOFFSETFROM:+0200
TZOFFSETTO:+0300
TZNAME:EEST
DTSTART:20260329T010000
END:DAYLIGHT
BEGIN:STANDARD
TZOFFSETFROM:+0300
TZOFFSETTO:+0200
TZNAME:EET
DTSTART:20261025T010000
END:STANDARD
BEGIN:DAYLIGHT
TZOFFSETFROM:+0200
TZOFFSETTO:+0300
TZNAME:EEST
DTSTART:20270328T010000
END:DAYLIGHT
BEGIN:STANDARD
TZOFFSETFROM:+0300
TZOFFSETTO:+0200
TZNAME:EET
DTSTART:20271031T010000
END:STANDARD
END:VTIMEZONE
BEGIN:VEVENT
DTSTART;TZID=Europe/Tallinn:20260430T100000
DTEND;TZID=Europe/Tallinn:20260430T160000
DTSTAMP:20260423T084618
CREATED:20260210T180949Z
LAST-MODIFIED:20260210T180949Z
UID:3089-1777543200-1777564800@tegevusterapeudid.ee
SUMMARY:Ratastooli-siirdumiste ergonoomika - praktiliselt ja päriselt
DESCRIPTION:Hea füsioterapeut\, tegevusterapeut ja hooldaja! Tule koolitusele ja saa teada\, kuidas aidata siirduda ratastoolis inimesel kõige kavalamalt autosse\, tualetti ja vanni ning kuidas abistada ratastoolikasutajat treppidel\, ebatasastel pindadel ning põrandalt ratastooli.\nKoolitavad tegevusterapeut Siiri Siimenson ja füsioterapeut Ines Margato. \n\n Toimumisaeg: 30. aprill 2026 kell 10.00–16.00\n Koht: Haapsalu Neuroloogiline Rehabilitatsioonikeskus\, Sadama 16\, Haapsalu\n\nTeemad: Ratastooliohutus (korrektne asend ratastoolis\, ratastoolis patsiendi turvaline lükkamine erinevatel tasapindadel\, ratastooliga treppidel liikumine)Siirdumised ratastoolist põrandale ja tagasi tooliSiirdumised vannitoas ja tualettruumisSiirdumine ratastoolist autosse ja bussi\nMaht: 7 akadeemilist tundi\nKoolituse hind: 80 eurot (hinnas sisaldub kohvipaus ja lõunasupp)\nRegistreerumise tähtaeg on 16. aprill 2026. \n\nRohkem infot ja koolitusele registreerimine: https://www.hnrk.ee/koolitused/
URL:https://tegevusterapeudid.ee/uritus/ratastooli-siirdumiste-ergonoomika-praktiliselt-ja-pariselt/
CATEGORIES:Tasuline koolitus
END:VEVENT
END:VCALENDAR