BEGIN:VCALENDAR
VERSION:2.0
PRODID:-//Eesti Tegevusterapeutide Liit - ECPv6.15.20//NONSGML v1.0//EN
CALSCALE:GREGORIAN
METHOD:PUBLISH
X-ORIGINAL-URL:https://tegevusterapeudid.ee
X-WR-CALDESC:Events for Eesti Tegevusterapeutide Liit
REFRESH-INTERVAL;VALUE=DURATION:PT1H
X-Robots-Tag:noindex
X-PUBLISHED-TTL:PT1H
BEGIN:VTIMEZONE
TZID:Europe/Tallinn
BEGIN:DAYLIGHT
TZOFFSETFROM:+0200
TZOFFSETTO:+0300
TZNAME:EEST
DTSTART:20250330T010000
END:DAYLIGHT
BEGIN:STANDARD
TZOFFSETFROM:+0300
TZOFFSETTO:+0200
TZNAME:EET
DTSTART:20251026T010000
END:STANDARD
BEGIN:DAYLIGHT
TZOFFSETFROM:+0200
TZOFFSETTO:+0300
TZNAME:EEST
DTSTART:20260329T010000
END:DAYLIGHT
BEGIN:STANDARD
TZOFFSETFROM:+0300
TZOFFSETTO:+0200
TZNAME:EET
DTSTART:20261025T010000
END:STANDARD
BEGIN:DAYLIGHT
TZOFFSETFROM:+0200
TZOFFSETTO:+0300
TZNAME:EEST
DTSTART:20270328T010000
END:DAYLIGHT
BEGIN:STANDARD
TZOFFSETFROM:+0300
TZOFFSETTO:+0200
TZNAME:EET
DTSTART:20271031T010000
END:STANDARD
END:VTIMEZONE
BEGIN:VEVENT
DTSTART;TZID=Europe/Tallinn:20260601T080000
DTEND;TZID=Europe/Tallinn:20260605T170000
DTSTAMP:20260423T121300
CREATED:20260119T141558Z
LAST-MODIFIED:20260119T141737Z
UID:3058-1780300800-1780678800@tegevusterapeudid.ee
SUMMARY:Sissejuhatav koolitus algajatele: NDT lähenemisest peaajukahjustusega täiskasvanuga töötamisel
DESCRIPTION:Kutsume kõiki neuroarendava ravi (NDT) huvilisi suvel Haapsallu! Meile tuleb külla suurepärane NDT spetsialist Cathy Hazzard\, kes viib HNRK-s läbi 3 koolitust: üks algajatele ja kaks edasijõudnutele.\n\n\n\n 1.–5. juuni 2026 – Sissejuhatav koolitus algajatele: NDT lähenemisest peaajukahjustusega täiskasvanuga töötamisel\n 7.–9 juuni 2026 – Koolitus edasijõudnutele: neuroloogiline ülajäse\n 10.–12 juuni 2026 – Koolitus edasijõudnutele: kõnd ja püstine asend\n\n\n\nKoolitustele on oodatud kõik füsioterapeudid\, tegevusterapeudid ja logopeedid\, kes tegelevad peaajukahjustusega täiskasvanutega ning igatsevad praktilist laadi koolitust. Koolitused on inglise keeles. Pane kuupäevad endale kirja ja hoia meie sotsiaalmeedial silm peal\, sest peagi tuleb koolituste kohta rohkem infot ja algab registreerimine! #annameelujõutagasi
URL:https://tegevusterapeudid.ee/uritus/sissejuhatav-koolitus-algajatele-ndt-lahenemisest-peaajukahjustusega-taiskasvanuga-tootamisel/
CATEGORIES:Tasuline koolitus
END:VEVENT
BEGIN:VEVENT
DTSTART;TZID=Europe/Tallinn:20260607T080000
DTEND;TZID=Europe/Tallinn:20260609T170000
DTSTAMP:20260423T121300
CREATED:20260119T141717Z
LAST-MODIFIED:20260119T141717Z
UID:3060-1780819200-1781024400@tegevusterapeudid.ee
SUMMARY:Koolitus edasijõudnutele: neuroloogiline ülajäse
DESCRIPTION:Kutsume kõiki neuroarendava ravi (NDT) huvilisi suvel Haapsallu! Meile tuleb külla suurepärane NDT spetsialist Cathy Hazzard\, kes viib HNRK-s läbi 3 koolitust: üks algajatele ja kaks edasijõudnutele.\n\n\n\n 1.–5. juuni 2026 – Sissejuhatav koolitus algajatele: NDT lähenemisest peaajukahjustusega täiskasvanuga töötamisel\n 7.–9 juuni 2026 – Koolitus edasijõudnutele: neuroloogiline ülajäse\n 10.–12 juuni 2026 – Koolitus edasijõudnutele: kõnd ja püstine asend\n\n\n\nKoolitustele on oodatud kõik füsioterapeudid\, tegevusterapeudid ja logopeedid\, kes tegelevad peaajukahjustusega täiskasvanutega ning igatsevad praktilist laadi koolitust. Koolitused on inglise keeles. Pane kuupäevad endale kirja ja hoia meie sotsiaalmeedial silm peal\, sest peagi tuleb koolituste kohta rohkem infot ja algab registreerimine! #annameelujõutagasi
URL:https://tegevusterapeudid.ee/uritus/koolitus-edasijoudnutele-neuroloogiline-ulajase/
CATEGORIES:Tasuline koolitus
END:VEVENT
BEGIN:VEVENT
DTSTART;TZID=Europe/Tallinn:20260610T080000
DTEND;TZID=Europe/Tallinn:20260612T170000
DTSTAMP:20260423T121300
CREATED:20260119T141913Z
LAST-MODIFIED:20260119T141913Z
UID:3062-1781078400-1781283600@tegevusterapeudid.ee
SUMMARY:Koolitus edasijõudnutele: kõnd ja püstine asend
DESCRIPTION:Kutsume kõiki neuroarendava ravi (NDT) huvilisi suvel Haapsallu! Meile tuleb külla suurepärane NDT spetsialist Cathy Hazzard\, kes viib HNRK-s läbi 3 koolitust: üks algajatele ja kaks edasijõudnutele.\n\n\n\n 1.–5. juuni 2026 – Sissejuhatav koolitus algajatele: NDT lähenemisest peaajukahjustusega täiskasvanuga töötamisel\n 7.–9 juuni 2026 – Koolitus edasijõudnutele: neuroloogiline ülajäse\n 10.–12 juuni 2026 – Koolitus edasijõudnutele: kõnd ja püstine asend\n\n\n\nKoolitustele on oodatud kõik füsioterapeudid\, tegevusterapeudid ja logopeedid\, kes tegelevad peaajukahjustusega täiskasvanutega ning igatsevad praktilist laadi koolitust. Koolitused on inglise keeles. Pane kuupäevad endale kirja ja hoia meie sotsiaalmeedial silm peal\, sest peagi tuleb koolituste kohta rohkem infot ja algab registreerimine! #annameelujõutagasi
URL:https://tegevusterapeudid.ee/uritus/koolitus-edasijoudnutele-kond-ja-pustine-asend/
CATEGORIES:Tasuline koolitus
END:VEVENT
END:VCALENDAR