BEGIN:VCALENDAR
VERSION:2.0
PRODID:-//Eesti Tegevusterapeutide Liit - ECPv6.15.20//NONSGML v1.0//EN
CALSCALE:GREGORIAN
METHOD:PUBLISH
X-ORIGINAL-URL:https://tegevusterapeudid.ee
X-WR-CALDESC:Events for Eesti Tegevusterapeutide Liit
REFRESH-INTERVAL;VALUE=DURATION:PT1H
X-Robots-Tag:noindex
X-PUBLISHED-TTL:PT1H
BEGIN:VTIMEZONE
TZID:Europe/Tallinn
BEGIN:DAYLIGHT
TZOFFSETFROM:+0200
TZOFFSETTO:+0300
TZNAME:EEST
DTSTART:20250330T010000
END:DAYLIGHT
BEGIN:STANDARD
TZOFFSETFROM:+0300
TZOFFSETTO:+0200
TZNAME:EET
DTSTART:20251026T010000
END:STANDARD
BEGIN:DAYLIGHT
TZOFFSETFROM:+0200
TZOFFSETTO:+0300
TZNAME:EEST
DTSTART:20260329T010000
END:DAYLIGHT
BEGIN:STANDARD
TZOFFSETFROM:+0300
TZOFFSETTO:+0200
TZNAME:EET
DTSTART:20261025T010000
END:STANDARD
BEGIN:DAYLIGHT
TZOFFSETFROM:+0200
TZOFFSETTO:+0300
TZNAME:EEST
DTSTART:20270328T010000
END:DAYLIGHT
BEGIN:STANDARD
TZOFFSETFROM:+0300
TZOFFSETTO:+0200
TZNAME:EET
DTSTART:20271031T010000
END:STANDARD
END:VTIMEZONE
BEGIN:VEVENT
DTSTART;TZID=Europe/Tallinn:20260511T080000
DTEND;TZID=Europe/Tallinn:20260513T170000
DTSTAMP:20260423T102955
CREATED:20251129T165129Z
LAST-MODIFIED:20251129T165129Z
UID:3006-1778486400-1778691600@tegevusterapeudid.ee
SUMMARY:Low Arousal Approach koolitus
DESCRIPTION:Aeg on läinud\, ja aeg hiilib vaikselt jõulude ja uue aasta suunal\, aga meie pole maganud. Oleme teinud tõhusat koostööd oma välispartneritega ja saanud kokkuleppe Low Arousal Approaches koolituse Eestisse toomiseks.\n\n\nMis see küll võiks olla? Lisaks TBRI suurepärastele põhimõtetele otsisime lahendust TBRI korrigeerimise neljanda taseme jaoks\, mida TBRI otseselt ei paku. Ehk siis juba kaitsva kaasamise (lähenemise) olukordadele\, kuidas väga keerulise käitumisega toime tulla. Aga samas soovisime\, et ka see oleks teaduspõhine ja toetuks kaasaja parimatele teadmistele ja praktikatele. Lõpuks\, kohtudes professor Andrew McDonnelliga Suurbritanniast ja kuulates tema avastusi ja vaadet keerulisele käitumisele\, saime aru\, et oleme midagi leidnud!\n\n\nLow Arousal Approach põhineb empiirilistel uuringutel ja parimatel praktikatel ja kogemustel keerulise käitumise haldamise valdkonnas. See on koostööl põhinev lähenemisviis\, mis hõlmab multidistsiplinaarset meeskonda\, kuhu kuuluvad nii toetust vajava isiku/kliendi lähedased\, õpetajad ja/või kõik teised spetsialistid\, kes töötavad koos välja ja rakendavad strateegiaid\, mis on järjepidevad kõigis keskkondades\, kus inimene võib viibida. See koostööl põhinev lähenemisviis tagab käitumise haldamises järjepidevuse\, prognoositavuse ja tõhususe\, mis aitab kaasa inimese positiivsete tulemuste edendamisele pikas perspektiivis.\n\n\nKeeruliste vajadustega inimestega töötamine võib olla uskumatult mitmekülgne ja huvitav. Nende sise- ja väliskeskkonna keerukus tekitab neis aga sageli stressi\, mis omakorda põhjustab nende mõtete\, tunnete ja käitumise düsregulatsiooni\, kui nad üritavad stressiga toime tulla.\n\n\nTraditsioonilised koolitused mis keskenduvad „agressiivsele käitumisele“ või „keerulisele käitumisele“\, pööravad eelkõige jälgitavatele käitumismustritele\, käsitlemata neid ajendavat stressi. See traditsiooniline lähenemisviis toob sageli kaasa nii vastumeelsust tekitavate sekkumiste\, ebavajalike piiravate praktikate kui traumade märkimisväärse suurenemise\, mida kogevad nii toetust vajavad isikud kui ka neid toetavad tugispetsialistid.\n\n\nSuurbritanniast pärit organisatsioon Studio 3 on sõltumatu organisatsioon\, mis pakub mitmesuguseid kliinilisi ja coachingu teenuseid üksikisikutele ja organisatsioonidele. 1990. aastal asutatud Studio 3 edendab positiivse psühholoogia ja Low Arousal Approaches ideaale\, filosoofiaid ja kasutegureid ning pakub stressirohkete olukordade haldamiseks Low Arousal Approaches lähenemisviisil põhinevat kursust Managing Signs of Distress. See lähenemine sõnastab ümber käitumisele keskenduva arutelu\, juhtides tähelepanu stressile\, toimetulekule ja traumakogemustele.\n\n\nKoolitusel osalejaid ajendatakse mõtlema oma rollile tugevat stressi kogeva inimese toetajana viisil\, mis on tõepoolest toetav\, etteaimatav ja soodustab usaldusväärsete ja tingimusteta suhete arengut. Kursus toob välja ka professionaalsete eneseanalüüsipraktikate olulisuse\, mis aitavad pidevalt parandada pakutava toetuse kvaliteeti\, aidates paremini mõista neid inimesi\, kelle heaks me töötame ja keda me toetame.\n\n\nNüüd ongi meil rõõm välja hõigata esmane info:\n\n\nLow Arousal Approach koolitus toimub Tallinnas 11.-13.mai 2026. Koht on veel täpsustamisel.\n\n\nKuna koolitus on aktiivõppega\, rohke lisamatarjali ja -lugemisega\, samuti võimalusega edasi liikuda koolitaja tasemele – siis koolitus toimub inglise keeles. Seetõttu on ka lisatud koolituse info visuaal inglise keeles.\n\n\nKoolitusgrupi kohtade arv on kindlalt piiratud\, seega anname varakult teada\, et tõsised huvilised saaksid mõelda ja otsustada.\n\n\nKoolituse hind on 720 eur. Hinna sees on ka koolitusel vajaminevad materjalid ja kohvipausid.\n\n\nPS. Esimese taseme läbimisel on võimalik edasi liikuda Low Arousal Approach koolitaja koolitusprogrammi\, mis toimub juba Suurbritannias.\n\n\nHuvi korral ja registreerumiseks (ja endale koha tagamiseks) palun kirjutage: info@ilp.ee
URL:https://tegevusterapeudid.ee/uritus/low-arousal-approach-koolitus/
CATEGORIES:Tasuline koolitus
END:VEVENT
END:VCALENDAR